BEGIN:VCALENDAR
VERSION:2.0
PRODID:-//eventon.com NONSGML v1.0//EN
CALSCALE:GREGORIAN
METHOD:PUBLISH
BEGIN:VEVENT
UID:69e4e7fe2ff7b
DTSTAMP:20260419T143438Z
DTSTART:20260523T080000Z
DTEND:20260523T140000Z
LOCATION:Ave of Flags
SUMMARY:Flying Miz Daisy Vintage Market May 23rd on Ave of Flags
DESCRIPTION:Flying Miz Daisy Vintage Market May 23rd on Ave of Flags\nhttps
 ://discoverbuellton.com/events/flying-miz-daisy-vintage-market-may-23rd-on-
 ave-of-flags/
URL:https://discoverbuellton.com/events/flying-miz-daisy-vintage-market-may-23rd-on-ave-of-flags/
END:VEVENT
END:VCALENDAR