BEGIN:VCALENDAR
VERSION:2.0
PRODID:-//eventon.com NONSGML v1.0//EN
CALSCALE:GREGORIAN
METHOD:PUBLISH
BEGIN:VEVENT
UID:69e4e7f22c519
DTSTAMP:20260419T143426Z
DTSTART:20260517T003000Z
DTEND:20260517T030000Z
LOCATION:Rock 12 Distillery 6605 E. Hwy 246
SUMMARY:Rock 12 Burger Bash May 16th
DESCRIPTION:Is it a pick up party? A concert? An invite to try Rock 12 afte
 r you’ve driven by so many times? Folks\,  it’s all those things. Join 
 us Saturday\,  May 16 for the Burger Bash. Burgers from Tubby Cravings. Mus
 ic from Serendipity. Cocktails from us! Zero proof options always. Tickets[
 ..]\nhttps://discoverbuellton.com/events/rock-12-burger-bash-may-16th/
URL:https://discoverbuellton.com/events/rock-12-burger-bash-may-16th/
END:VEVENT
END:VCALENDAR