BEGIN:VCALENDAR
VERSION:2.0
PRODID:-//eventon.com NONSGML v1.0//EN
CALSCALE:GREGORIAN
METHOD:PUBLISH
BEGIN:VEVENT
UID:69e8df9b41635
DTSTAMP:20260422T144755Z
DTSTART:20260424T190000Z
DTEND:20260425T220000Z
LOCATION:Babcock Winery 5175 Hwy 246
SUMMARY:Vintage Sale and Paella at Babcock Winery April 24th & 25th
DESCRIPTION:Vintage Sale and Paella at Babcock Winery April 24th & 25th\nht
 tps://discoverbuellton.com/events/vintage-sale-and-paella-at-babcock-winery
 -april-24th-25th/
URL:https://discoverbuellton.com/events/vintage-sale-and-paella-at-babcock-winery-april-24th-25th/
END:VEVENT
END:VCALENDAR