BEGIN:VCALENDAR
VERSION:2.0
PRODID:-//eventon.com NONSGML v1.0//EN
CALSCALE:GREGORIAN
METHOD:PUBLISH
BEGIN:VEVENT
UID:69e78955b2d56
DTSTAMP:20260421T142733Z
DTSTART:20260517T220000Z
DTEND:20260518T000000Z
LOCATION:Hitching Post 2 406 E. Hwy 246
SUMMARY:A Red Oak Grilling Master Class with Frank Ostini May 17th
DESCRIPTION:A Red Oak Grilling Master Class favorite. Learn the secrets beh
 ind HP2’s iconic Santa Maria–style barbecue\,  hands-on at The Hitching
  Post II with Frank Ostini and Chef Jesus Montaño—gathered around the op
 en grill to master fire management\,  wood selection\,  and the timing of c
 uts over red oak. Enjoy steak\,  classic[..]\nhttps://discoverbuellton.com/
 events/a-red-oak-grilling-master-class-with-frank-ostini-may-17th/
URL:https://discoverbuellton.com/events/a-red-oak-grilling-master-class-with-frank-ostini-may-17th/
END:VEVENT
END:VCALENDAR