BEGIN:VCALENDAR
VERSION:2.0
PRODID:-//eventon.com NONSGML v1.0//EN
CALSCALE:GREGORIAN
METHOD:PUBLISH
BEGIN:VEVENT
UID:69e8c6d7cb3b3
DTSTAMP:20260422T130215Z
DTSTART:20260501T230000Z
DTEND:20260627T010000Z
LOCATION:The Barn at The Hilt Estate  2240 Santa Rosa Rd\,  Lompoc\,  CA
SUMMARY:Golden Hour at The Barn at The Hilt Estate
DESCRIPTION:With the weather heating up and days getting longer\,  The Barn
  at The Hilt Estate\,  the hospitality nucleus for two renowned Santa Barba
 ra County wineries\,  The Hilt and JONATA\,  is bringing back Golden Hour a
 t The Barn\,  every Friday in May and June. Soak up the warmth and light of
 [..]\nhttps://discoverbuellton.com/events/golden-hour-at-the-barn-at-the-hi
 lt-estate/
URL:https://discoverbuellton.com/events/golden-hour-at-the-barn-at-the-hilt-estate/
END:VEVENT
END:VCALENDAR